BEGIN:VCALENDAR
VERSION:2.0
PRODID:-//Lewis &amp; Clark Humane Society - ECPv6.15.17.1//NONSGML v1.0//EN
CALSCALE:GREGORIAN
METHOD:PUBLISH
X-WR-CALNAME:Lewis &amp; Clark Humane Society
X-ORIGINAL-URL:https://lchsmontana.org
X-WR-CALDESC:Events for Lewis &amp; Clark Humane Society
REFRESH-INTERVAL;VALUE=DURATION:PT1H
X-Robots-Tag:noindex
X-PUBLISHED-TTL:PT1H
BEGIN:VTIMEZONE
TZID:UTC
BEGIN:STANDARD
TZOFFSETFROM:+0000
TZOFFSETTO:+0000
TZNAME:UTC
DTSTART:20250101T000000
END:STANDARD
END:VTIMEZONE
BEGIN:VEVENT
DTSTART;TZID=UTC:20260322T160000
DTEND;TZID=UTC:20260322T190000
DTSTAMP:20260424T211328
CREATED:20260206T200355Z
LAST-MODIFIED:20260206T200355Z
UID:47987-1774195200-1774206000@lchsmontana.org
SUMMARY:Bingo Night at Brothers Tapworks
DESCRIPTION:Every Sunday in March\, join LCHS at Brothers Tapworks for Bingo! Enjoy a fun afternoon of games\, support the animals\, and compete for fun prizes. Donations will be accepted throughout the event to benefit the shelter.\n\nEach week\, we’ll also share engaging insights about LCHS\, so while you play\, you can learn more about adopting rescue pets\, fostering\, supporting cats\, and the many ways you can get involved in caring for animals in need.\n 
URL:https://lchsmontana.org/event/bingo-night-at-brothers-tapworks-4/
LOCATION:Brothers Tapworks\, 40 S Last Chance Gulch St\, Helena\, 59601\, United States
CATEGORIES:Animal Charity
ATTACH;FMTTYPE=image/jpeg:https://lchsmontana.org/wp-content/uploads/625118171_1361249069376125_7946355265470631004_n.jpg
END:VEVENT
END:VCALENDAR