BEGIN:VCALENDAR
VERSION:2.0
PRODID:-//Lewis &amp; Clark Humane Society - ECPv6.15.17.1//NONSGML v1.0//EN
CALSCALE:GREGORIAN
METHOD:PUBLISH
X-WR-CALNAME:Lewis &amp; Clark Humane Society
X-ORIGINAL-URL:https://lchsmontana.org
X-WR-CALDESC:Events for Lewis &amp; Clark Humane Society
REFRESH-INTERVAL;VALUE=DURATION:PT1H
X-Robots-Tag:noindex
X-PUBLISHED-TTL:PT1H
BEGIN:VTIMEZONE
TZID:UTC
BEGIN:STANDARD
TZOFFSETFROM:+0000
TZOFFSETTO:+0000
TZNAME:UTC
DTSTART:20250101T000000
END:STANDARD
END:VTIMEZONE
BEGIN:VEVENT
DTSTART;TZID=UTC:20260403T173000
DTEND;TZID=UTC:20260403T200000
DTSTAMP:20260424T200324
CREATED:20260325T182140Z
LAST-MODIFIED:20260325T182150Z
UID:48601-1775237400-1775246400@lchsmontana.org
SUMMARY:Painting with Kitties
DESCRIPTION:What’s better than making a beautiful creation at The Painted Pot? Doing it while snuggling adorable cats! Enjoy a great night hanging out with friends and/or family\, painting\, and cuddling these cuties. Cost is $15 + your project. $10 of your registration fee will go to the Lewis & Clark Humane Society and all the cats will be available for adoption! Painted Pot will provide light snacks and cuteness overload. Get your spots before they’re all gone! All attendees must be registered and purchase a project the night of the event. This is an all ages event. \n 
URL:https://lchsmontana.org/event/painting-with-kitties/
LOCATION:The Painted Pot\, 333 N Last Chance Gulch\, Helena\, Montana
CATEGORIES:Animal Charity
ATTACH;FMTTYPE=image/png:https://lchsmontana.org/wp-content/uploads/LCHS-Events-Web-Graphics-2.png
END:VEVENT
END:VCALENDAR