BEGIN:VCALENDAR
VERSION:2.0
PRODID:-//Lewis &amp; Clark Humane Society - ECPv6.15.17.1//NONSGML v1.0//EN
CALSCALE:GREGORIAN
METHOD:PUBLISH
X-ORIGINAL-URL:https://lchsmontana.org
X-WR-CALDESC:Events for Lewis &amp; Clark Humane Society
REFRESH-INTERVAL;VALUE=DURATION:PT1H
X-Robots-Tag:noindex
X-PUBLISHED-TTL:PT1H
BEGIN:VTIMEZONE
TZID:UTC
BEGIN:STANDARD
TZOFFSETFROM:+0000
TZOFFSETTO:+0000
TZNAME:UTC
DTSTART:20250101T000000
END:STANDARD
END:VTIMEZONE
BEGIN:VEVENT
DTSTART;TZID=UTC:20260314T163000
DTEND;TZID=UTC:20260314T210000
DTSTAMP:20260424T213953
CREATED:20260206T201013Z
LAST-MODIFIED:20260206T201223Z
UID:47991-1773505800-1773522000@lchsmontana.org
SUMMARY:Annual Spayghetti Dinner
DESCRIPTION:This year’s theme is The Ripple Effect: A Single Act of Kindness Creates Waves\, because at Lewis & Clark Humane Society\, nothing happens in isolation.\n\nOne adoption opens a kennel for the next animal in need.One spay/neuter surgery prevents countless unwanted litters.One foster home gives a scared pet the space to heal.\n\nEverything we do creates ripples for the people and pets of our community. And you’re a huge part of that impact.\nSpayghetti 2026 will be March 14th at the Helena Civic Center! We can’t wait to celebrate with you! Get tickets now!\n\n 
URL:https://lchsmontana.org/event/spayghetti/
LOCATION:Helena Civic Center\, 340 Neill Ave\, Helena\, 59601\, United States
CATEGORIES:Animal Charity
ATTACH;FMTTYPE=image/png:https://lchsmontana.org/wp-content/uploads/Untitled-design-46-1.png
END:VEVENT
END:VCALENDAR