BEGIN:VCALENDAR
VERSION:2.0
PRODID:-//Lewis &amp; Clark Humane Society - ECPv6.15.17.1//NONSGML v1.0//EN
CALSCALE:GREGORIAN
METHOD:PUBLISH
X-WR-CALNAME:Lewis &amp; Clark Humane Society
X-ORIGINAL-URL:https://lchsmontana.org
X-WR-CALDESC:Events for Lewis &amp; Clark Humane Society
REFRESH-INTERVAL;VALUE=DURATION:PT1H
X-Robots-Tag:noindex
X-PUBLISHED-TTL:PT1H
BEGIN:VTIMEZONE
TZID:UTC
BEGIN:STANDARD
TZOFFSETFROM:+0000
TZOFFSETTO:+0000
TZNAME:UTC
DTSTART:20250101T000000
END:STANDARD
END:VTIMEZONE
BEGIN:VEVENT
DTSTART;TZID=UTC:20260413T170000
DTEND;TZID=UTC:20260413T210000
DTSTAMP:20260424T230049
CREATED:20260402T201630Z
LAST-MODIFIED:20260402T201630Z
UID:48775-1776099600-1776114000@lchsmontana.org
SUMMARY:Windbag Cares
DESCRIPTION:LCHS is partnering with The Windbag for Windbag Cares! \nJoin us for an evening out. Enjoy dinner\, grab a drink\, and come say hi! 20% of the proceeds from your visit will be donated directly back to the animals at LCHS. \n 
URL:https://lchsmontana.org/event/windbag-cares/
LOCATION:The Windbag\, 19 S Last Chance Gulch St\, Helena\, Montana
CATEGORIES:Animal Charity
ATTACH;FMTTYPE=image/png:https://lchsmontana.org/wp-content/uploads/LCHS-Events-Web-Graphics-3.png
END:VEVENT
END:VCALENDAR