BEGIN:VCALENDAR
VERSION:2.0
PRODID:-//Lewis &amp; Clark Humane Society - ECPv6.15.17.1//NONSGML v1.0//EN
CALSCALE:GREGORIAN
METHOD:PUBLISH
X-WR-CALNAME:Lewis &amp; Clark Humane Society
X-ORIGINAL-URL:https://lchsmontana.org
X-WR-CALDESC:Events for Lewis &amp; Clark Humane Society
REFRESH-INTERVAL;VALUE=DURATION:PT1H
X-Robots-Tag:noindex
X-PUBLISHED-TTL:PT1H
BEGIN:VTIMEZONE
TZID:UTC
BEGIN:STANDARD
TZOFFSETFROM:+0000
TZOFFSETTO:+0000
TZNAME:UTC
DTSTART:20250101T000000
END:STANDARD
END:VTIMEZONE
BEGIN:VEVENT
DTSTART;TZID=UTC:20260214T110000
DTEND;TZID=UTC:20260214T120000
DTSTAMP:20260424T225252
CREATED:20160726T000000Z
LAST-MODIFIED:20260206T194831Z
UID:10805-1771066800-1771070400@lchsmontana.org
SUMMARY:Cats on Mats
DESCRIPTION:Join us for Cats on Mats—a one-of-a-kind yoga experience where gentle movement meets gentle purrs. Hosted at Gentle Healing Center\, this class invites you to share your mat (and your heart) with adoptable cats from the Lewis & Clark Humane Society. \nWhether you’re a seasoned yogi or just looking for some feline therapy\, this class offers a soothing\, playful space to unwind—with curious cats weaving between poses\, climbing into laps\, or simply observing from the sidelines. \nAll proceeds benefit the animals at LCHS\, helping provide food\, shelter\, medical care\, and the second chances they deserve. \n 
URL:https://lchsmontana.org/event/catsonmats/
LOCATION:Gentle Healing Center\, 513 Saddle Dr\, Helena\, 59601\, United States
CATEGORIES:Animal Charity
ATTACH;FMTTYPE=image/png:https://lchsmontana.org/wp-content/uploads/LCHS-Events-Web-Graphics.png
END:VEVENT
BEGIN:VEVENT
DTSTART;TZID=UTC:20260209T150000
DTEND;TZID=UTC:20260209T220000
DTSTAMP:20260424T225252
CREATED:20260206T195405Z
LAST-MODIFIED:20260206T195405Z
UID:47975-1770649200-1770674400@lchsmontana.org
SUMMARY:Non Profit Night at the Rathskeller
DESCRIPTION:LCHS is partnering with The Rathskeller for their first-ever Nonprofit Night! \nJoin us for an evening out. Enjoy dinner\, grab a drink\, and let your server or bartender know you’re there to support LCHS. 20% of the proceeds from your visit will be donated directly back to the animals at LCHS. \n 
URL:https://lchsmontana.org/event/non-profit-night-at-the-rathskeller/
LOCATION:The Rathskeller\, 24 W 6th Ave\, Helena\, 59601\, United States
CATEGORIES:Animal Charity
ATTACH;FMTTYPE=image/png:https://lchsmontana.org/wp-content/uploads/LCHS-Events-Web-Graphics-1.png
END:VEVENT
END:VCALENDAR